BEGIN:VCALENDAR
VERSION:2.0
PRODID:-//RGV AGC - ECPv6.15.20//NONSGML v1.0//EN
CALSCALE:GREGORIAN
METHOD:PUBLISH
X-WR-CALNAME:RGV AGC
X-ORIGINAL-URL:https://rgvagc.org
X-WR-CALDESC:Events for RGV AGC
REFRESH-INTERVAL;VALUE=DURATION:PT1H
X-Robots-Tag:noindex
X-PUBLISHED-TTL:PT1H
BEGIN:VTIMEZONE
TZID:America/Chicago
BEGIN:DAYLIGHT
TZOFFSETFROM:-0600
TZOFFSETTO:-0500
TZNAME:CDT
DTSTART:20220313T080000
END:DAYLIGHT
BEGIN:STANDARD
TZOFFSETFROM:-0500
TZOFFSETTO:-0600
TZNAME:CST
DTSTART:20221106T070000
END:STANDARD
BEGIN:DAYLIGHT
TZOFFSETFROM:-0600
TZOFFSETTO:-0500
TZNAME:CDT
DTSTART:20230312T080000
END:DAYLIGHT
BEGIN:STANDARD
TZOFFSETFROM:-0500
TZOFFSETTO:-0600
TZNAME:CST
DTSTART:20231105T070000
END:STANDARD
BEGIN:DAYLIGHT
TZOFFSETFROM:-0600
TZOFFSETTO:-0500
TZNAME:CDT
DTSTART:20240310T080000
END:DAYLIGHT
BEGIN:STANDARD
TZOFFSETFROM:-0500
TZOFFSETTO:-0600
TZNAME:CST
DTSTART:20241103T070000
END:STANDARD
END:VTIMEZONE
BEGIN:VEVENT
DTSTART;TZID=America/Chicago:20230914T170000
DTEND;TZID=America/Chicago:20230914T210000
DTSTAMP:20260425T072400
CREATED:20230728T194607Z
LAST-MODIFIED:20230728T194607Z
UID:3300-1694710800-1694725200@rgvagc.org
SUMMARY:37th Annual Fishing Tournament - Captain's Party
DESCRIPTION:Save the Date for our 37th Annual Fishing Tournament – Captain’s Party \nThursday\, September 14\, 2023 \n5PM @ AGC – Harlingen \n 
URL:https://rgvagc.org/event/37th-annual-fishing-tournament-captains-party/
LOCATION:Harlingen
CATEGORIES:Social/Networking Events
END:VEVENT
BEGIN:VEVENT
DTSTART;TZID=America/Chicago:20230916T060000
DTEND;TZID=America/Chicago:20230916T150000
DTSTAMP:20260425T072400
CREATED:20230728T195615Z
LAST-MODIFIED:20230728T195823Z
UID:3301-1694844000-1694876400@rgvagc.org
SUMMARY:37th Annual Fishing Tournament @ Louie's Backyard - S.P.I.
DESCRIPTION:Save the Date for our 37th Annual Fishing Tournament @ Louie’s Backyard – S.P.I.
URL:https://rgvagc.org/event/37th-annual-fishing-tournament/
LOCATION:Louie’s Backyard\, 2305 Laguna Blvd.\, South Padre Island\, TX\, 78597\, United States
CATEGORIES:Social/Networking Events
END:VEVENT
END:VCALENDAR