BEGIN:VCALENDAR
VERSION:2.0
PRODID:-//RGV AGC - ECPv6.15.20//NONSGML v1.0//EN
CALSCALE:GREGORIAN
METHOD:PUBLISH
X-WR-CALNAME:RGV AGC
X-ORIGINAL-URL:https://rgvagc.org
X-WR-CALDESC:Events for RGV AGC
REFRESH-INTERVAL;VALUE=DURATION:PT1H
X-Robots-Tag:noindex
X-PUBLISHED-TTL:PT1H
BEGIN:VTIMEZONE
TZID:America/Chicago
BEGIN:DAYLIGHT
TZOFFSETFROM:-0600
TZOFFSETTO:-0500
TZNAME:CDT
DTSTART:20250309T080000
END:DAYLIGHT
BEGIN:STANDARD
TZOFFSETFROM:-0500
TZOFFSETTO:-0600
TZNAME:CST
DTSTART:20251102T070000
END:STANDARD
BEGIN:DAYLIGHT
TZOFFSETFROM:-0600
TZOFFSETTO:-0500
TZNAME:CDT
DTSTART:20260308T080000
END:DAYLIGHT
BEGIN:STANDARD
TZOFFSETFROM:-0500
TZOFFSETTO:-0600
TZNAME:CST
DTSTART:20261101T070000
END:STANDARD
BEGIN:DAYLIGHT
TZOFFSETFROM:-0600
TZOFFSETTO:-0500
TZNAME:CDT
DTSTART:20270314T080000
END:DAYLIGHT
BEGIN:STANDARD
TZOFFSETFROM:-0500
TZOFFSETTO:-0600
TZNAME:CST
DTSTART:20271107T070000
END:STANDARD
END:VTIMEZONE
BEGIN:VEVENT
DTSTART;TZID=America/Chicago:20260131T174500
DTEND;TZID=America/Chicago:20260131T233000
DTSTAMP:20260422T072606
CREATED:20251216T203039Z
LAST-MODIFIED:20251219T024124Z
UID:3779-1769881500-1769902200@rgvagc.org
SUMMARY:76th Annual "Black Jack & Blue Jeans" - Installation of Officers\, Awards Banquet & Casino Night
DESCRIPTION:
URL:https://rgvagc.org/event/76th-annual-black-jack-blue-jeans-installation-of-officers-awards-banquet-casino-night/
LOCATION:Brookhaven Event Center\, 404 E. Interstate 2\, Bldg. C\, Pharr\, TX\, 78577\, United States
CATEGORIES:Social/Networking Events
END:VEVENT
END:VCALENDAR