BEGIN:VCALENDAR
VERSION:2.0
PRODID:-//RGV AGC - ECPv6.15.20//NONSGML v1.0//EN
CALSCALE:GREGORIAN
METHOD:PUBLISH
X-ORIGINAL-URL:https://rgvagc.org
X-WR-CALDESC:Events for RGV AGC
REFRESH-INTERVAL;VALUE=DURATION:PT1H
X-Robots-Tag:noindex
X-PUBLISHED-TTL:PT1H
BEGIN:VTIMEZONE
TZID:America/Chicago
BEGIN:DAYLIGHT
TZOFFSETFROM:-0600
TZOFFSETTO:-0500
TZNAME:CDT
DTSTART:20230312T080000
END:DAYLIGHT
BEGIN:STANDARD
TZOFFSETFROM:-0500
TZOFFSETTO:-0600
TZNAME:CST
DTSTART:20231105T070000
END:STANDARD
BEGIN:DAYLIGHT
TZOFFSETFROM:-0600
TZOFFSETTO:-0500
TZNAME:CDT
DTSTART:20240310T080000
END:DAYLIGHT
BEGIN:STANDARD
TZOFFSETFROM:-0500
TZOFFSETTO:-0600
TZNAME:CST
DTSTART:20241103T070000
END:STANDARD
BEGIN:DAYLIGHT
TZOFFSETFROM:-0600
TZOFFSETTO:-0500
TZNAME:CDT
DTSTART:20250309T080000
END:DAYLIGHT
BEGIN:STANDARD
TZOFFSETFROM:-0500
TZOFFSETTO:-0600
TZNAME:CST
DTSTART:20251102T070000
END:STANDARD
END:VTIMEZONE
BEGIN:VEVENT
DTSTART;TZID=America/Chicago:20240222T080000
DTEND;TZID=America/Chicago:20240222T120000
DTSTAMP:20260423T053147
CREATED:20240129T201636Z
LAST-MODIFIED:20240129T201636Z
UID:3365-1708588800-1708603200@rgvagc.org
SUMMARY:Forklift Certification Training
DESCRIPTION:American Safety Consulting along with Equipment Share will provide a sit down warehouse type forklift and rough terrain forklift training. Equipment for certification training will also be provided.
URL:https://rgvagc.org/event/forklift-certification-training/
LOCATION:Harlingen
CATEGORIES:Construction Safety Training,Safety Training
END:VEVENT
END:VCALENDAR