BEGIN:VCALENDAR
VERSION:2.0
PRODID:-//RGV AGC - ECPv6.15.20//NONSGML v1.0//EN
CALSCALE:GREGORIAN
METHOD:PUBLISH
X-WR-CALNAME:RGV AGC
X-ORIGINAL-URL:https://rgvagc.org
X-WR-CALDESC:Events for RGV AGC
REFRESH-INTERVAL;VALUE=DURATION:PT1H
X-Robots-Tag:noindex
X-PUBLISHED-TTL:PT1H
BEGIN:VTIMEZONE
TZID:America/Chicago
BEGIN:DAYLIGHT
TZOFFSETFROM:-0600
TZOFFSETTO:-0500
TZNAME:CDT
DTSTART:20220313T080000
END:DAYLIGHT
BEGIN:STANDARD
TZOFFSETFROM:-0500
TZOFFSETTO:-0600
TZNAME:CST
DTSTART:20221106T070000
END:STANDARD
BEGIN:DAYLIGHT
TZOFFSETFROM:-0600
TZOFFSETTO:-0500
TZNAME:CDT
DTSTART:20230312T080000
END:DAYLIGHT
BEGIN:STANDARD
TZOFFSETFROM:-0500
TZOFFSETTO:-0600
TZNAME:CST
DTSTART:20231105T070000
END:STANDARD
BEGIN:DAYLIGHT
TZOFFSETFROM:-0600
TZOFFSETTO:-0500
TZNAME:CDT
DTSTART:20240310T080000
END:DAYLIGHT
BEGIN:STANDARD
TZOFFSETFROM:-0500
TZOFFSETTO:-0600
TZNAME:CST
DTSTART:20241103T070000
END:STANDARD
END:VTIMEZONE
BEGIN:VEVENT
DTSTART;TZID=America/Chicago:20231003T173000
DTEND;TZID=America/Chicago:20231003T193000
DTSTAMP:20260422T041101
CREATED:20230728T205243Z
LAST-MODIFIED:20230728T205243Z
UID:3313-1696354200-1696361400@rgvagc.org
SUMMARY:Fall Basic Blueprint Reading Course
DESCRIPTION:Basic Blueprint Reading Course \n14 hours – 7 classes \nCourse Description: The object of the course is to develop skills to understand reading of specifications and commercial building blueprints. \nInstruction will include: Construction Documents and Language\, Types of construction\, Site Work & Plot Plans\, Structural Steel Construction\, Reinforced Concrete\, Finished Construction (Architectural Drawings)\, Plumbing\, Mechanical and Electrical Systems\, Safety/Security\, ADA Act and Building Codes.
URL:https://rgvagc.org/event/fall-basic-blueprint-reading-course-5/
LOCATION:Harlingen
CATEGORIES:Education - Professional Development Training
END:VEVENT
BEGIN:VEVENT
DTSTART;TZID=America/Chicago:20231010T173000
DTEND;TZID=America/Chicago:20231010T193000
DTSTAMP:20260422T041101
CREATED:20230728T205353Z
LAST-MODIFIED:20230728T205353Z
UID:3314-1696959000-1696966200@rgvagc.org
SUMMARY:Fall Basic Blueprint Reading Course
DESCRIPTION:Basic Blueprint Reading Course \n14 hours – 7 classes \nCourse Description: The object of the course is to develop skills to understand reading of specifications and commercial building blueprints. \nInstruction will include: Construction Documents and Language\, Types of construction\, Site Work & Plot Plans\, Structural Steel Construction\, Reinforced Concrete\, Finished Construction (Architectural Drawings)\, Plumbing\, Mechanical and Electrical Systems\, Safety/Security\, ADA Act and Building Codes.
URL:https://rgvagc.org/event/fall-basic-blueprint-reading-course-6/
LOCATION:Harlingen
CATEGORIES:Education - Professional Development Training
END:VEVENT
BEGIN:VEVENT
DTSTART;TZID=America/Chicago:20231017T173000
DTEND;TZID=America/Chicago:20231017T193000
DTSTAMP:20260422T041101
CREATED:20230728T205510Z
LAST-MODIFIED:20230728T205510Z
UID:3315-1697563800-1697571000@rgvagc.org
SUMMARY:Fall Basic Blueprint Reading Course
DESCRIPTION:Basic Blueprint Reading Course \n14 hours – 7 classes \nCourse Description: The object of the course is to develop skills to understand reading of specifications and commercial building blueprints. \nInstruction will include: Construction Documents and Language\, Types of construction\, Site Work & Plot Plans\, Structural Steel Construction\, Reinforced Concrete\, Finished Construction (Architectural Drawings)\, Plumbing\, Mechanical and Electrical Systems\, Safety/Security\, ADA Act and Building Codes.
URL:https://rgvagc.org/event/fall-basic-blueprint-reading-course-7/
LOCATION:Harlingen
CATEGORIES:Education - Professional Development Training
END:VEVENT
BEGIN:VEVENT
DTSTART;TZID=America/Chicago:20231027T120000
DTEND;TZID=America/Chicago:20231027T170000
DTSTAMP:20260422T041101
CREATED:20230921T183400Z
LAST-MODIFIED:20230921T195612Z
UID:3319-1698408000-1698426000@rgvagc.org
SUMMARY:AIA LRGV & WIC 1ST ANNUAL SPORTING CLAY SHOOTING COMPETITION
DESCRIPTION:AIA Lower Rio Grande Valley and AGC Women In Construction 1st Annual Sporting Clay Shooting Competition @ El Dorado Sporting Clays – 24059 Floral Rd\, Linn\, TX 78541 \nFriday\, October 27\, 2023 \nSign-In: 12pm \nShotgun Start: 1pm \n$500 per team \nFood & Drinks provided \nAll proceeds to benefit AIA LRGV & AGC Scholarship Programs. \nFor more info & sponsorship opportunities contact: msustaeta@lrgvaia.org / 956-579-4865
URL:https://rgvagc.org/event/aia-lrgv-wic-1st-annual-sporting-clay-shooting-competition/
LOCATION:El Dorado Sporting Clays\, 24059 Floral Rd.\, Linn\, 78541\, United States
CATEGORIES:WICKED
END:VEVENT
END:VCALENDAR