BEGIN:VCALENDAR
VERSION:2.0
PRODID:-//RGV AGC - ECPv6.15.20//NONSGML v1.0//EN
CALSCALE:GREGORIAN
METHOD:PUBLISH
X-WR-CALNAME:RGV AGC
X-ORIGINAL-URL:https://rgvagc.org
X-WR-CALDESC:Events for RGV AGC
REFRESH-INTERVAL;VALUE=DURATION:PT1H
X-Robots-Tag:noindex
X-PUBLISHED-TTL:PT1H
BEGIN:VTIMEZONE
TZID:America/Chicago
BEGIN:DAYLIGHT
TZOFFSETFROM:-0600
TZOFFSETTO:-0500
TZNAME:CDT
DTSTART:20230312T080000
END:DAYLIGHT
BEGIN:STANDARD
TZOFFSETFROM:-0500
TZOFFSETTO:-0600
TZNAME:CST
DTSTART:20231105T070000
END:STANDARD
BEGIN:DAYLIGHT
TZOFFSETFROM:-0600
TZOFFSETTO:-0500
TZNAME:CDT
DTSTART:20240310T080000
END:DAYLIGHT
BEGIN:STANDARD
TZOFFSETFROM:-0500
TZOFFSETTO:-0600
TZNAME:CST
DTSTART:20241103T070000
END:STANDARD
BEGIN:DAYLIGHT
TZOFFSETFROM:-0600
TZOFFSETTO:-0500
TZNAME:CDT
DTSTART:20250309T080000
END:DAYLIGHT
BEGIN:STANDARD
TZOFFSETFROM:-0500
TZOFFSETTO:-0600
TZNAME:CST
DTSTART:20251102T070000
END:STANDARD
END:VTIMEZONE
BEGIN:VEVENT
DTSTART;TZID=America/Chicago:20240111T090000
DTEND;TZID=America/Chicago:20240111T110000
DTSTAMP:20260422T041051
CREATED:20240105T211613Z
LAST-MODIFIED:20240105T211749Z
UID:3333-1704963600-1704970800@rgvagc.org
SUMMARY:First Aid/CPR Training
DESCRIPTION:First Aid/CPR Training @ RGV-AGC Harlingen \nCall now to register (956) 423-4091 \nFirst Aid – January 11\, 2024 \n 
URL:https://rgvagc.org/event/call-our-office-to-register-now-for-first-aid-cpr-training-thursday-january-11-2024/
LOCATION:Harlingen
CATEGORIES:CPR/First Aid Training
END:VEVENT
BEGIN:VEVENT
DTSTART;TZID=America/Chicago:20240117T100000
DTEND;TZID=America/Chicago:20240117T113000
DTSTAMP:20260422T041051
CREATED:20240111T201724Z
LAST-MODIFIED:20240111T201724Z
UID:3346-1705485600-1705491000@rgvagc.org
SUMMARY:Workshop - Get HUB Certified
DESCRIPTION:
URL:https://rgvagc.org/event/workshop-get-hub-certified/
LOCATION:eBridge Center for Business and Commercialization\, 1304 E. Adams St.\, Brownsville\, TX\, 78520\, United States
CATEGORIES:Education - Professional Development Training
END:VEVENT
BEGIN:VEVENT
DTSTART;TZID=America/Chicago:20240127T180000
DTEND;TZID=America/Chicago:20240127T230000
DTSTAMP:20260422T041051
CREATED:20240105T210618Z
LAST-MODIFIED:20240105T210618Z
UID:3330-1706378400-1706396400@rgvagc.org
SUMMARY:Save the Date - 2024 Installation of Officers\, Awards Banquet & Casino Night
DESCRIPTION:
URL:https://rgvagc.org/event/save-the-date-2024-installation-of-officers-awards-banquet-casino-night/
LOCATION:McAllen Convention Center\, 700 Convention Center Blvd.\, McAllen\, 78501\, United States
CATEGORIES:Social/Networking Events
END:VEVENT
END:VCALENDAR