BEGIN:VCALENDAR
VERSION:2.0
PRODID:-//RGV AGC - ECPv6.15.20//NONSGML v1.0//EN
CALSCALE:GREGORIAN
METHOD:PUBLISH
X-WR-CALNAME:RGV AGC
X-ORIGINAL-URL:https://rgvagc.org
X-WR-CALDESC:Events for RGV AGC
REFRESH-INTERVAL;VALUE=DURATION:PT1H
X-Robots-Tag:noindex
X-PUBLISHED-TTL:PT1H
BEGIN:VTIMEZONE
TZID:America/Chicago
BEGIN:DAYLIGHT
TZOFFSETFROM:-0600
TZOFFSETTO:-0500
TZNAME:CDT
DTSTART:20230312T080000
END:DAYLIGHT
BEGIN:STANDARD
TZOFFSETFROM:-0500
TZOFFSETTO:-0600
TZNAME:CST
DTSTART:20231105T070000
END:STANDARD
BEGIN:DAYLIGHT
TZOFFSETFROM:-0600
TZOFFSETTO:-0500
TZNAME:CDT
DTSTART:20240310T080000
END:DAYLIGHT
BEGIN:STANDARD
TZOFFSETFROM:-0500
TZOFFSETTO:-0600
TZNAME:CST
DTSTART:20241103T070000
END:STANDARD
BEGIN:DAYLIGHT
TZOFFSETFROM:-0600
TZOFFSETTO:-0500
TZNAME:CDT
DTSTART:20250309T080000
END:DAYLIGHT
BEGIN:STANDARD
TZOFFSETFROM:-0500
TZOFFSETTO:-0600
TZNAME:CST
DTSTART:20251102T070000
END:STANDARD
END:VTIMEZONE
BEGIN:VEVENT
DTSTART;TZID=America/Chicago:20240206T110000
DTEND;TZID=America/Chicago:20240206T130000
DTSTAMP:20260422T054759
CREATED:20240111T202404Z
LAST-MODIFIED:20240111T202404Z
UID:3349-1707217200-1707224400@rgvagc.org
SUMMARY:Business In Development (B.I.D) Bid Academy - Get Government Contracts 101
DESCRIPTION:Sessions every Tuesday & Thursday \nFeb. 6 – 22\, 2024
URL:https://rgvagc.org/event/business-in-development-b-i-d-bid-academy-get-government-contracts-101/
LOCATION:eBridge Center for Business and Commercialization\, 1304 E. Adams St.\, Brownsville\, TX\, 78520\, United States
CATEGORIES:Education - Professional Development Training
END:VEVENT
BEGIN:VEVENT
DTSTART;TZID=America/Chicago:20240208T120000
DTEND;TZID=America/Chicago:20240208T130000
DTSTAMP:20260422T054759
CREATED:20240116T162340Z
LAST-MODIFIED:20240126T164056Z
UID:3352-1707393600-1707397200@rgvagc.org
SUMMARY:Women In Construction Virtual Lunch & Learn
DESCRIPTION:Please join my meeting from your computer\, tablet or smartphone. \nhttps://meet.goto.com/974821157 \nYou can also dial in using your phone. \n(For supported devices\, tap a one-touch number below to join instantly.) \nUnited States: +1 (872) 240-3212 \n– One-touch: tel:+18722403212\,\,974821157# \nAccess Code: 974-821-157
URL:https://rgvagc.org/event/women-in-construction-virtual-lunch-learn/
LOCATION:TX
CATEGORIES:WICKED
END:VEVENT
BEGIN:VEVENT
DTSTART;TZID=America/Chicago:20240210T110000
DTEND;TZID=America/Chicago:20240210T140000
DTSTAMP:20260422T054759
CREATED:20230921T200617Z
LAST-MODIFIED:20240126T170138Z
UID:3325-1707562800-1707573600@rgvagc.org
SUMMARY:Save the Date for Legislative BBQ
DESCRIPTION:Save the Date for RGV-AGC & AGC TBB Legislative BBQ hosted by Representative Armando “Mando” Martinez \nSaturday\, February 10th 11am – 2pm \nPlease call RGV-AGC for Sponsorship Opportunities @ 956-522-0394. \n \n 
URL:https://rgvagc.org/event/save-the-date-for-legislative-update-2023-bbq/
LOCATION:TX
CATEGORIES:Social/Networking Events
END:VEVENT
BEGIN:VEVENT
DTSTART;TZID=America/Chicago:20240222T080000
DTEND;TZID=America/Chicago:20240222T120000
DTSTAMP:20260422T054759
CREATED:20240129T201636Z
LAST-MODIFIED:20240129T201636Z
UID:3365-1708588800-1708603200@rgvagc.org
SUMMARY:Forklift Certification Training
DESCRIPTION:American Safety Consulting along with Equipment Share will provide a sit down warehouse type forklift and rough terrain forklift training. Equipment for certification training will also be provided.
URL:https://rgvagc.org/event/forklift-certification-training/
LOCATION:Harlingen
CATEGORIES:Construction Safety Training,Safety Training
END:VEVENT
END:VCALENDAR