BEGIN:VCALENDAR
VERSION:2.0
PRODID:-//RGV AGC - ECPv6.15.20//NONSGML v1.0//EN
CALSCALE:GREGORIAN
METHOD:PUBLISH
X-WR-CALNAME:RGV AGC
X-ORIGINAL-URL:https://rgvagc.org
X-WR-CALDESC:Events for RGV AGC
REFRESH-INTERVAL;VALUE=DURATION:PT1H
X-Robots-Tag:noindex
X-PUBLISHED-TTL:PT1H
BEGIN:VTIMEZONE
TZID:America/Chicago
BEGIN:DAYLIGHT
TZOFFSETFROM:-0600
TZOFFSETTO:-0500
TZNAME:CDT
DTSTART:20230312T080000
END:DAYLIGHT
BEGIN:STANDARD
TZOFFSETFROM:-0500
TZOFFSETTO:-0600
TZNAME:CST
DTSTART:20231105T070000
END:STANDARD
BEGIN:DAYLIGHT
TZOFFSETFROM:-0600
TZOFFSETTO:-0500
TZNAME:CDT
DTSTART:20240310T080000
END:DAYLIGHT
BEGIN:STANDARD
TZOFFSETFROM:-0500
TZOFFSETTO:-0600
TZNAME:CST
DTSTART:20241103T070000
END:STANDARD
BEGIN:DAYLIGHT
TZOFFSETFROM:-0600
TZOFFSETTO:-0500
TZNAME:CDT
DTSTART:20250309T080000
END:DAYLIGHT
BEGIN:STANDARD
TZOFFSETFROM:-0500
TZOFFSETTO:-0600
TZNAME:CST
DTSTART:20251102T070000
END:STANDARD
END:VTIMEZONE
BEGIN:VEVENT
DTSTART;TZID=America/Chicago:20240402T173000
DTEND;TZID=America/Chicago:20240402T193000
DTSTAMP:20260422T090448
CREATED:20240214T194329Z
LAST-MODIFIED:20240214T194329Z
UID:3375-1712079000-1712086200@rgvagc.org
SUMMARY:Basic Estimating Skills Course
DESCRIPTION:Unlock Your Estimating Skills! final
URL:https://rgvagc.org/event/basic-estimating-skills-course-4/
LOCATION:RGV-AGC Harlingen\, 6918 W. Expressway 83\, Harlingen\, TX\, 78552\, United States
CATEGORIES:Education - Professional Development Training
END:VEVENT
BEGIN:VEVENT
DTSTART;TZID=America/Chicago:20240405T170000
DTEND;TZID=America/Chicago:20240405T200000
DTSTAMP:20260422T090448
CREATED:20240111T191532Z
LAST-MODIFIED:20240304T152455Z
UID:3339-1712336400-1712347200@rgvagc.org
SUMMARY:13th Annual Fajita Cook-Off
DESCRIPTION:@ RGV-AGC Harlingen
URL:https://rgvagc.org/event/13th-annual-fajita-cook-off/
LOCATION:Harlingen
CATEGORIES:Social/Networking Events
END:VEVENT
BEGIN:VEVENT
DTSTART;TZID=America/Chicago:20240409T173000
DTEND;TZID=America/Chicago:20240409T193000
DTSTAMP:20260422T090448
CREATED:20240214T194441Z
LAST-MODIFIED:20240214T194441Z
UID:3376-1712683800-1712691000@rgvagc.org
SUMMARY:Basic Estimating Skills Course
DESCRIPTION:Unlock Your Estimating Skills! final
URL:https://rgvagc.org/event/basic-estimating-skills-course-5/
LOCATION:RGV-AGC Harlingen\, 6918 W. Expressway 83\, Harlingen\, TX\, 78552\, United States
CATEGORIES:Education - Professional Development Training
END:VEVENT
BEGIN:VEVENT
DTSTART;TZID=America/Chicago:20240416T173000
DTEND;TZID=America/Chicago:20240416T193000
DTSTAMP:20260422T090448
CREATED:20240214T194557Z
LAST-MODIFIED:20240214T194557Z
UID:3377-1713288600-1713295800@rgvagc.org
SUMMARY:Basic Estimating Skills Course
DESCRIPTION:Unlock Your Estimating Skills! final
URL:https://rgvagc.org/event/basic-estimating-skills-course-6/
LOCATION:RGV-AGC Harlingen\, 6918 W. Expressway 83\, Harlingen\, TX\, 78552\, United States
CATEGORIES:Education - Professional Development Training
END:VEVENT
BEGIN:VEVENT
DTSTART;TZID=America/Chicago:20240418T080000
DTEND;TZID=America/Chicago:20240418T113000
DTSTAMP:20260422T090448
CREATED:20240402T163942Z
LAST-MODIFIED:20240402T163942Z
UID:3396-1713427200-1713439800@rgvagc.org
SUMMARY:Aerial Boom-Lift & Scissors Lift Certification
DESCRIPTION:Aerial Boom Lift and Scissors Lift Certification – April 18\, 2024 \n 
URL:https://rgvagc.org/event/aerial-boom-lift-scissors-lift-certification/
LOCATION:RGV-AGC Harlingen\, 6918 W. Expressway 83\, Harlingen\, TX\, 78552\, United States
CATEGORIES:Safety Training
END:VEVENT
BEGIN:VEVENT
DTSTART;TZID=America/Chicago:20240418T133000
DTEND;TZID=America/Chicago:20240418T163000
DTSTAMP:20260422T090448
CREATED:20240402T164133Z
LAST-MODIFIED:20240416T184408Z
UID:3398-1713447000-1713457800@rgvagc.org
SUMMARY:First AID/CPR/AED Certification
DESCRIPTION:First Aid CPR AED Certification – April 18\, 2024 \n 
URL:https://rgvagc.org/event/first-aid-cpr-aed-certification/
LOCATION:RGV-AGC Harlingen\, 6918 W. Expressway 83\, Harlingen\, TX\, 78552\, United States
CATEGORIES:CPR/First Aid Training,Safety Training
END:VEVENT
BEGIN:VEVENT
DTSTART;TZID=America/Chicago:20240423T173000
DTEND;TZID=America/Chicago:20240423T193000
DTSTAMP:20260422T090448
CREATED:20240214T194731Z
LAST-MODIFIED:20240214T194731Z
UID:3378-1713893400-1713900600@rgvagc.org
SUMMARY:Basic Estimating Skills Course
DESCRIPTION:Unlock Your Estimating Skills! final
URL:https://rgvagc.org/event/basic-estimating-skills-course-7/
LOCATION:RGV-AGC Harlingen\, 6918 W. Expressway 83\, Harlingen\, TX\, 78552\, United States
CATEGORIES:Education - Professional Development Training
END:VEVENT
BEGIN:VEVENT
DTSTART;TZID=America/Chicago:20240425T110000
DTEND;TZID=America/Chicago:20240425T140000
DTSTAMP:20260422T090448
CREATED:20240326T205442Z
LAST-MODIFIED:20240326T205442Z
UID:3391-1714042800-1714053600@rgvagc.org
SUMMARY:ASSA ABLOY Door Group - Windstorm and StormPro Training
DESCRIPTION:
URL:https://rgvagc.org/event/assa-abloy-door-group-windstorm-and-stormpro-training/
LOCATION:RGV-AGC Harlingen\, 6918 W. Expressway 83\, Harlingen\, TX\, 78552\, United States
CATEGORIES:General Safety Training,Safety Training
END:VEVENT
END:VCALENDAR