BEGIN:VCALENDAR
VERSION:2.0
PRODID:-//RGV AGC - ECPv6.15.20//NONSGML v1.0//EN
CALSCALE:GREGORIAN
METHOD:PUBLISH
X-WR-CALNAME:RGV AGC
X-ORIGINAL-URL:https://rgvagc.org
X-WR-CALDESC:Events for RGV AGC
REFRESH-INTERVAL;VALUE=DURATION:PT1H
X-Robots-Tag:noindex
X-PUBLISHED-TTL:PT1H
BEGIN:VTIMEZONE
TZID:America/Chicago
BEGIN:DAYLIGHT
TZOFFSETFROM:-0600
TZOFFSETTO:-0500
TZNAME:CDT
DTSTART:20230312T080000
END:DAYLIGHT
BEGIN:STANDARD
TZOFFSETFROM:-0500
TZOFFSETTO:-0600
TZNAME:CST
DTSTART:20231105T070000
END:STANDARD
BEGIN:DAYLIGHT
TZOFFSETFROM:-0600
TZOFFSETTO:-0500
TZNAME:CDT
DTSTART:20240310T080000
END:DAYLIGHT
BEGIN:STANDARD
TZOFFSETFROM:-0500
TZOFFSETTO:-0600
TZNAME:CST
DTSTART:20241103T070000
END:STANDARD
BEGIN:DAYLIGHT
TZOFFSETFROM:-0600
TZOFFSETTO:-0500
TZNAME:CDT
DTSTART:20250309T080000
END:DAYLIGHT
BEGIN:STANDARD
TZOFFSETFROM:-0500
TZOFFSETTO:-0600
TZNAME:CST
DTSTART:20251102T070000
END:STANDARD
END:VTIMEZONE
BEGIN:VEVENT
DTSTART;TZID=America/Chicago:20240502T160000
DTEND;TZID=America/Chicago:20240502T180000
DTSTAMP:20260422T104518
CREATED:20240111T191812Z
LAST-MODIFIED:20240409T193639Z
UID:3340-1714665600-1714672800@rgvagc.org
SUMMARY:Cinco de Mayo Mixer
DESCRIPTION:@ RGV-AGC Harlingen
URL:https://rgvagc.org/event/cinco-de-mayo-mixer/
LOCATION:Harlingen
CATEGORIES:Social/Networking Events
END:VEVENT
BEGIN:VEVENT
DTSTART;TZID=America/Chicago:20240509T120000
DTEND;TZID=America/Chicago:20240509T130000
DTSTAMP:20260422T104518
CREATED:20240129T154751Z
LAST-MODIFIED:20240506T175002Z
UID:3355-1715256000-1715259600@rgvagc.org
SUMMARY:WIC Innovations and Trends: Women Driving Change in Construction Technology
DESCRIPTION:  \n \nInnovations and Trends: Women Driving Change in Construction Technology\nThu\, May 9\, 2024 12:00 PM – 1:00 PM (CDT)  \nPlease join my meeting from your computer\, tablet or smartphone.  \nhttps://meet.goto.com/778227797 \nYou can also dial in using your phone.\n(For supported devices\, tap a one-touch number below to join instantly.)  \nUnited States: +1 (571) 317-3122\n– One-touch: tel:+15713173122\,\,778227797# \nAccess Code: 778-227-797
URL:https://rgvagc.org/event/wic-innovations-and-trends-women-driving-change-in-construction-technology/
LOCATION:TX
CATEGORIES:WICKED
END:VEVENT
BEGIN:VEVENT
DTSTART;TZID=America/Chicago:20240516T080000
DTEND;TZID=America/Chicago:20240516T170000
DTSTAMP:20260422T104518
CREATED:20240402T164542Z
LAST-MODIFIED:20240402T164542Z
UID:3400-1715846400-1715878800@rgvagc.org
SUMMARY:OSHA 30-Hour Course In Construction
DESCRIPTION:OSHA 30 Hour Course In Construction – May 16 17 23 24\, 2024
URL:https://rgvagc.org/event/osha-30-hour-course-in-construction/
LOCATION:RGV-AGC Harlingen\, 6918 W. Expressway 83\, Harlingen\, TX\, 78552\, United States
CATEGORIES:OSHA Training,Safety Training
END:VEVENT
BEGIN:VEVENT
DTSTART;TZID=America/Chicago:20240517T080000
DTEND;TZID=America/Chicago:20240517T170000
DTSTAMP:20260422T104518
CREATED:20240402T164649Z
LAST-MODIFIED:20240402T164649Z
UID:3403-1715932800-1715965200@rgvagc.org
SUMMARY:OSHA 30-Hour Course In Construction
DESCRIPTION:OSHA 30 Hour Course In Construction – May 16 17 23 24\, 2024
URL:https://rgvagc.org/event/osha-30-hour-course-in-construction-2/
LOCATION:RGV-AGC Harlingen\, 6918 W. Expressway 83\, Harlingen\, TX\, 78552\, United States
CATEGORIES:OSHA Training,Safety Training
END:VEVENT
BEGIN:VEVENT
DTSTART;TZID=America/Chicago:20240523T080000
DTEND;TZID=America/Chicago:20240523T170000
DTSTAMP:20260422T104518
CREATED:20240402T164755Z
LAST-MODIFIED:20240402T164755Z
UID:3404-1716451200-1716483600@rgvagc.org
SUMMARY:OSHA 30-Hour Course In Construction
DESCRIPTION:OSHA 30 Hour Course In Construction – May 16 17 23 24\, 2024
URL:https://rgvagc.org/event/osha-30-hour-course-in-construction-3/
LOCATION:RGV-AGC Harlingen\, 6918 W. Expressway 83\, Harlingen\, TX\, 78552\, United States
CATEGORIES:OSHA Training,Safety Training
END:VEVENT
BEGIN:VEVENT
DTSTART;TZID=America/Chicago:20240524T080000
DTEND;TZID=America/Chicago:20240524T170000
DTSTAMP:20260422T104518
CREATED:20240402T164912Z
LAST-MODIFIED:20240402T164912Z
UID:3405-1716537600-1716570000@rgvagc.org
SUMMARY:OSHA 30-Hour Course In Construction
DESCRIPTION:OSHA 30 Hour Course In Construction – May 16 17 23 24\, 2024
URL:https://rgvagc.org/event/osha-30-hour-course-in-construction-4/
LOCATION:RGV-AGC Harlingen\, 6918 W. Expressway 83\, Harlingen\, TX\, 78552\, United States
CATEGORIES:OSHA Training,Safety Training
END:VEVENT
BEGIN:VEVENT
DTSTART;TZID=America/Chicago:20240528T173000
DTEND;TZID=America/Chicago:20240528T193000
DTSTAMP:20260422T104518
CREATED:20240515T152131Z
LAST-MODIFIED:20240515T152131Z
UID:3422-1716917400-1716924600@rgvagc.org
SUMMARY:Basic Blueprint Reading Course (14 Hours - 7 Classes)
DESCRIPTION:Basic Blueprint Reading Course Description \nBasic Blueprint Reading Course Registration Form
URL:https://rgvagc.org/event/basic-blueprint-reading-course-14-hours-7-classes/
LOCATION:RGV-AGC Harlingen\, 6918 W. Expressway 83\, Harlingen\, TX\, 78552\, United States
CATEGORIES:Education - Professional Development Training
END:VEVENT
END:VCALENDAR