BEGIN:VCALENDAR
VERSION:2.0
PRODID:-//RGV AGC - ECPv6.15.20//NONSGML v1.0//EN
CALSCALE:GREGORIAN
METHOD:PUBLISH
X-ORIGINAL-URL:https://rgvagc.org
X-WR-CALDESC:Events for RGV AGC
REFRESH-INTERVAL;VALUE=DURATION:PT1H
X-Robots-Tag:noindex
X-PUBLISHED-TTL:PT1H
BEGIN:VTIMEZONE
TZID:America/Chicago
BEGIN:DAYLIGHT
TZOFFSETFROM:-0600
TZOFFSETTO:-0500
TZNAME:CDT
DTSTART:20250309T080000
END:DAYLIGHT
BEGIN:STANDARD
TZOFFSETFROM:-0500
TZOFFSETTO:-0600
TZNAME:CST
DTSTART:20251102T070000
END:STANDARD
BEGIN:DAYLIGHT
TZOFFSETFROM:-0600
TZOFFSETTO:-0500
TZNAME:CDT
DTSTART:20260308T080000
END:DAYLIGHT
BEGIN:STANDARD
TZOFFSETFROM:-0500
TZOFFSETTO:-0600
TZNAME:CST
DTSTART:20261101T070000
END:STANDARD
BEGIN:DAYLIGHT
TZOFFSETFROM:-0600
TZOFFSETTO:-0500
TZNAME:CDT
DTSTART:20270314T080000
END:DAYLIGHT
BEGIN:STANDARD
TZOFFSETFROM:-0500
TZOFFSETTO:-0600
TZNAME:CST
DTSTART:20271107T070000
END:STANDARD
END:VTIMEZONE
BEGIN:VEVENT
DTSTART;TZID=America/Chicago:20260211T080000
DTEND;TZID=America/Chicago:20260211T120000
DTSTAMP:20260422T125207
CREATED:20260123T222036Z
LAST-MODIFIED:20260123T222036Z
UID:3796-1770796800-1770811200@rgvagc.org
SUMMARY:ESC Safety Consultants - Flagger Training
DESCRIPTION:
URL:https://rgvagc.org/event/esc-safety-consultants-flagger-training/
LOCATION:RGV-AGC Harlingen\, 6918 W. Expressway 83\, Harlingen\, TX\, 78552\, United States
CATEGORIES:Safety Training
END:VEVENT
BEGIN:VEVENT
DTSTART;TZID=America/Chicago:20260220T080000
DTEND;TZID=America/Chicago:20260220T113000
DTSTAMP:20260422T125207
CREATED:20260202T160108Z
LAST-MODIFIED:20260202T160108Z
UID:3799-1771574400-1771587000@rgvagc.org
SUMMARY:American Safety Consulting - First Aid CPR AED Training
DESCRIPTION:
URL:https://rgvagc.org/event/american-safety-consulting-first-aid-cpr-aed-training/
LOCATION:RGV-AGC Harlingen\, 6918 W. Expressway 83\, Harlingen\, TX\, 78552\, United States
CATEGORIES:CPR/First Aid Training,Safety Training
END:VEVENT
END:VCALENDAR